BEGIN:VCALENDAR
VERSION:2.0
PRODID:-//Фондация „Утре“ - ECPv6.15.17.1//NONSGML v1.0//EN
CALSCALE:GREGORIAN
METHOD:PUBLISH
X-WR-CALNAME:Фондация „Утре“
X-ORIGINAL-URL:https://fondaciyautre.com
X-WR-CALDESC:Събития за Фондация „Утре“
REFRESH-INTERVAL;VALUE=DURATION:PT1H
X-Robots-Tag:noindex
X-PUBLISHED-TTL:PT1H
BEGIN:VTIMEZONE
TZID:Europe/Sofia
BEGIN:DAYLIGHT
TZOFFSETFROM:+0200
TZOFFSETTO:+0300
TZNAME:EEST
DTSTART:20240331T010000
END:DAYLIGHT
BEGIN:STANDARD
TZOFFSETFROM:+0300
TZOFFSETTO:+0200
TZNAME:EET
DTSTART:20241027T010000
END:STANDARD
BEGIN:DAYLIGHT
TZOFFSETFROM:+0200
TZOFFSETTO:+0300
TZNAME:EEST
DTSTART:20250330T010000
END:DAYLIGHT
BEGIN:STANDARD
TZOFFSETFROM:+0300
TZOFFSETTO:+0200
TZNAME:EET
DTSTART:20251026T010000
END:STANDARD
BEGIN:DAYLIGHT
TZOFFSETFROM:+0200
TZOFFSETTO:+0300
TZNAME:EEST
DTSTART:20260329T010000
END:DAYLIGHT
BEGIN:STANDARD
TZOFFSETFROM:+0300
TZOFFSETTO:+0200
TZNAME:EET
DTSTART:20261025T010000
END:STANDARD
END:VTIMEZONE
BEGIN:VEVENT
DTSTART;TZID=Europe/Sofia:20250614T070000
DTEND;TZID=Europe/Sofia:20250614T210000
DTSTAMP:20260421T162726
CREATED:20250602T095458Z
LAST-MODIFIED:20250602T154026Z
UID:600-1749884400-1749934800@fondaciyautre.com
SUMMARY:ОТВЪД МОСТЪ
DESCRIPTION:Спортното събитие „ОТВЪД МОСТЪ Bike & Run“ в град Ловеч се организира за поредна година – велокрос и бягане сред красивата природа на Ловешкия край. Тази година то ще се проведе на 14 юни\, събота\, и ще бъде партньор на фондация „Утре“ и кампанията Movember Bulgaria 2025. \nОТВЪД МОСТЪ не е просто състезание… А предизвикателство – да преминеш границите на възможното. Да продължиш напред\, да преодолееш ограниченията и да се осмелиш да погледнеш ОТВЪД това\, което вече познаваш. \nТочно както мостът свързва двата бряга на Осъм\, така и спортното събитие свързва хората – с енергия\, страст и стремеж към победа. Състезанието в Ловеч е покана да предизвикаш себе си\, да надскочиш себе си\, да изследваш нови територии и да покажеш най-доброто\, на което си способен. \nНаучи повече за ОТВЪД МОСТЪ на техния сайт.
URL:https://fondaciyautre.com/event/%d0%be%d1%82%d0%b2%d1%8a%d0%b4-%d0%bc%d0%be%d1%81%d1%82%d1%8a/
LOCATION:ОТВЪД МОСТЪ Bike & Run\, Ловеч\, Bulgaria
CATEGORIES:Ловеч
ATTACH;FMTTYPE=image/jpeg:https://fondaciyautre.com/wp-content/uploads/2025/06/otvyd-mosty-e1748860332537.jpg
END:VEVENT
BEGIN:VEVENT
DTSTART;TZID=Europe/Sofia:20250613T180000
DTEND;TZID=Europe/Sofia:20250613T200000
DTSTAMP:20260421T162726
CREATED:20250602T151345Z
LAST-MODIFIED:20250613T102820Z
UID:617-1749837600-1749844800@fondaciyautre.com
SUMMARY:Безплатни урологични прегледи при д-р Льоскова
DESCRIPTION:По случай провеждането на събитието „Отвъд мостъ“ и като подготовка за Movember Bulgaria 2025\, организираме в град Ловеч безплатни профилактични прегледи при уролога д-р Румяна Льоскова. \nПрегледите ще се проведат в урологичния кабинет на първия етаж в сградата на бившата поликлиника в град Ловеч\, ул. „Съйко Съев“ №27\, срещу входа на аптека „Феникс“. \nВсеки мъж е добре дошъл между 18:00 и 20:00 часа на 13 юни. Прегледът е напълно безплатен и не изисква нищо от вас\, единствено трябва да се запишете през формуляра по-долу\, за да се избегне струпване на хора. Побързайте\, защото местата са ограничени! \nД-р Румяна Льоскова работи от дълги години като уролог както в болничната\, така и в доболничната медицинска помощ. Понастоящем е лекар в Урологична клиника на УМБАЛ „Света Марина“ – гр. Плевен. Има множество специализации в областта на заболяванията\, сързани с мъжкото здраве – болести на простатата\, тестисите\, отделителната система. Включва се в кампанията поради убеждението си\, че навременната и системната профилактика е най-добрият начин за постигане на трайни резултати в поддържането и укрепването на мъжкото здраве. \nРегистрацията приключи! \n 
URL:https://fondaciyautre.com/event/%d0%b1%d0%b5%d0%b7%d0%bf%d0%bb%d0%b0%d1%82%d0%bd%d0%b8-%d1%83%d1%80%d0%be%d0%bb%d0%be%d0%b3%d0%b8%d1%87%d0%bd%d0%b8-%d0%bf%d1%80%d0%b5%d0%b3%d0%bb%d0%b5%d0%b4%d0%b8-%d0%bf%d1%80%d0%b8-%d0%b4-%d1%80/
LOCATION:ЦСМП-Ловеч\, ул. "Доктор Съйко Съев" №27\, Ловеч
CATEGORIES:Ловеч
ATTACH;FMTTYPE=image/jpeg:https://fondaciyautre.com/wp-content/uploads/2025/06/csmp-lovech.jpg
END:VEVENT
END:VCALENDAR