BEGIN:VCALENDAR
VERSION:2.0
PRODID:-//Фондация „Утре“ - ECPv6.15.17.1//NONSGML v1.0//EN
CALSCALE:GREGORIAN
METHOD:PUBLISH
X-WR-CALNAME:Фондация „Утре“
X-ORIGINAL-URL:https://fondaciyautre.com
X-WR-CALDESC:Събития за Фондация „Утре“
REFRESH-INTERVAL;VALUE=DURATION:PT1H
X-Robots-Tag:noindex
X-PUBLISHED-TTL:PT1H
BEGIN:VTIMEZONE
TZID:Europe/Sofia
BEGIN:DAYLIGHT
TZOFFSETFROM:+0200
TZOFFSETTO:+0300
TZNAME:EEST
DTSTART:20240331T010000
END:DAYLIGHT
BEGIN:STANDARD
TZOFFSETFROM:+0300
TZOFFSETTO:+0200
TZNAME:EET
DTSTART:20241027T010000
END:STANDARD
BEGIN:DAYLIGHT
TZOFFSETFROM:+0200
TZOFFSETTO:+0300
TZNAME:EEST
DTSTART:20250330T010000
END:DAYLIGHT
BEGIN:STANDARD
TZOFFSETFROM:+0300
TZOFFSETTO:+0200
TZNAME:EET
DTSTART:20251026T010000
END:STANDARD
BEGIN:DAYLIGHT
TZOFFSETFROM:+0200
TZOFFSETTO:+0300
TZNAME:EEST
DTSTART:20260329T010000
END:DAYLIGHT
BEGIN:STANDARD
TZOFFSETFROM:+0300
TZOFFSETTO:+0200
TZNAME:EET
DTSTART:20261025T010000
END:STANDARD
END:VTIMEZONE
BEGIN:VEVENT
DTSTART;TZID=Europe/Sofia:20251104T113000
DTEND;TZID=Europe/Sofia:20251104T150000
DTSTAMP:20260419T205419
CREATED:20251022T123547Z
LAST-MODIFIED:20251101T190852Z
UID:850-1762255800-1762268400@fondaciyautre.com
SUMMARY:Безплатни урологични прегледи във Велико Търново при д-р Димитров 4.11 (часовете са запълнени)
DESCRIPTION:Д-р Димитър Димитров е роден през 1970 г. в Русе. От 1997 г. е дипломиран медик на МУ – Варна. От 2008 г. е специалист по урология. Работи в КОЦ Велико Търново и ДКЦ – 1 Велико Търново. \nД-р Димитър Димитров щедро се включва в Movember Bulgaria с цели 4 дати – 4\, 5\, 14 и 28 ноември. Прегледите са безплатни и ще се провеждат в кабинет №6 на Комплексен онкологичен център (КОЦ) – В. Търново на ул. „Бузлуджа“ №1. Изисква се само предварителна регистрация\, за да се избегне струпване на хора. \nВсички часове за този ден вече са запълнени. Моля\, върнете се на календара и изберете някоя от другите дати на д-р Димитров.
URL:https://fondaciyautre.com/event/bezplatni-urologichni-pregledi-vt-dimitrov-4-11/
LOCATION:Комплексен онкологичен център Велико Търново\, ул. „Бузлуджа“ № 1\, Велико Търново
CATEGORIES:Велико Търново
ATTACH;FMTTYPE=image/jpeg:https://fondaciyautre.com/wp-content/uploads/2025/10/КОЦ-Велико-Търново.jpg
END:VEVENT
BEGIN:VEVENT
DTSTART;TZID=Europe/Sofia:20251104T100000
DTEND;TZID=Europe/Sofia:20251104T170000
DTSTAMP:20260419T205419
CREATED:20251030T123041Z
LAST-MODIFIED:20251105T060621Z
UID:1091-1762250400-1762275600@fondaciyautre.com
SUMMARY:Безплатни консултации в Шумен при психолога Теодора Драгозова-Бояджиева 4.11
DESCRIPTION:Теодора Драгозова-Бояджиева е психолог/психотерапевт и мед. специалист в гр. Шумен с дългогодишна практика в индивидуалното и груповото консултиране. Пълната ѝ биография можете да прочетете тук. \nТя ще се включи в кампанията Movember Bulgaria с безплатни психологични консултации за мъже в своя кабинет на ул. “Цар Освободител” №97\, ет. 3\, к-т 35. Те ще се провеждат всеки вторник през месец ноември между 10:00 и 17:00\, като е задължително предварително записване на час на телефон 0886 04 09 20.
URL:https://fondaciyautre.com/event/bezplatni-konsultacii-pri-psihologa-boqdjieva-4-11/
LOCATION:Кабинет 35 на Теодора Бояджиева\, Шумен\, ул. Цар освободител №97\, Шумен
CATEGORIES:Шумен
ATTACH;FMTTYPE=image/jpeg:https://fondaciyautre.com/wp-content/uploads/2025/10/Шумен.jpg
END:VEVENT
BEGIN:VEVENT
DTSTART;TZID=Europe/Sofia:20251104T090000
DTEND;TZID=Europe/Sofia:20251104T160000
DTSTAMP:20260419T205419
CREATED:20251022T165814Z
LAST-MODIFIED:20251027T132402Z
UID:897-1762246800-1762272000@fondaciyautre.com
SUMMARY:Безплатни урологични прегледи във Враца при д-р Гаврилов 4.11 (часовете са запълнени)
DESCRIPTION:Д-р Георги Гаврилов е уролог с над 25 години опит\, специализирал в България\, Швейцария и Германия. Пълната му биография прочетете тук. \nТой ще се включи в Movember Bulgaria с безплатни профилактични прегледи в два дни – 3 и 4 ноември с широк диапазон от часове. \nПрегледите ще се осъществяват в Комплексен онкологичен център – Враца с адрес Медковец\, бул. „2-ри юни“ 68. Д-р Георгиев ще бъде в кабинета по урология\, намиращ се в сградата на отделението по Нуклеарна медицина на КОЦ – Враца. За упътване\, пациентите могат да се обърнат към „Информация“\, намираща се на първи етаж в стационара на лечебното заведение. \nИзисква се предварително записване на час\, което можете да направите\, попълвайки формуляра по-долу. \nВсички часове за този ден и лекар вече са запълнени! Нека все пак това не ви отказва – редовните профилактични прегледи са важни и си струват дори когато не са безплатни. Свържете се с лекаря и си запишете час извън кампанията.
URL:https://fondaciyautre.com/event/bezplatni-urologichni-pregledi-vraca-4-11/
LOCATION:Комплексен онкологичен център Враца\, Медковец\, бул. „2-ри юни“ 68\, Враца
CATEGORIES:Враца
ATTACH;FMTTYPE=image/jpeg:https://fondaciyautre.com/wp-content/uploads/2025/10/KOC-Vraca-vhod.jpg
END:VEVENT
BEGIN:VEVENT
DTSTART;TZID=Europe/Sofia:20251103T160000
DTEND;TZID=Europe/Sofia:20251103T173000
DTSTAMP:20260419T205419
CREATED:20251029T103304Z
LAST-MODIFIED:20251103T194027Z
UID:1058-1762185600-1762191000@fondaciyautre.com
SUMMARY:Безплатни урологични прегледи в Русе при д-р Котов 3.11
DESCRIPTION:Д-р Румен Котов е утвърден специалист уролог с над 30 години опит\, начело на Урологичното отделение на УМБАЛ „Медика Русе“ от 2013 година. Той извършва прецизни диагностични и оперативни интервенции на пикочно-половата система\, прилагайки съвременни конвенционални\, лапароскопски и ендоскопски техники. Пълната му биография можете да прочетете тук. \nД-р Котов се включва в Movember Bulgaria с 2 възможности за безплатни профилактични прегледи – на 3 и 5 ноември между 16:00 и 17:30 часа. Прегледите ще се осъществяват в ДКЦ-2 Русе ЕООД\, като се изисква предварително записване на час на телефон 082/ 502 430 или 082/ 502 480. \nЗаписванията за 3 ноември вече са затворени.
URL:https://fondaciyautre.com/event/bezplatni-urologichni-pregledi-pri-dr-kotov-3-11/
LOCATION:ДКЦ-2 Русе\, ул. Рига 35А\, Русе
CATEGORIES:Русе
ATTACH;FMTTYPE=image/jpeg:https://fondaciyautre.com/wp-content/uploads/2025/10/ДКЦ-2-Русе.jpg
END:VEVENT
BEGIN:VEVENT
DTSTART;TZID=Europe/Sofia:20251103T120000
DTEND;TZID=Europe/Sofia:20251103T150000
DTSTAMP:20260419T205419
CREATED:20251022T123618Z
LAST-MODIFIED:20251103T103523Z
UID:818-1762171200-1762182000@fondaciyautre.com
SUMMARY:Безплатни консултации във Велико Търново при психолога В. Божанова 3.11
DESCRIPTION:Весислава Божанова е клиничен психолог във Велико Търново и е сред първите психолози\, включили се в кампанията Movember Bulgaria. Нейната биография можете да прочетете тук. \nТя ще предлага безплатни психологични консултации за мъже (или близки на онкоболни мъже) от 3 до 7 ноември между 12:00 и 15:00 с продължителност до 50 минути. Те ще се провеждат в кабинета на клиничния психолог на първия етаж в Хирургично отделение на Комплексен онкологичен център (КОЦ) – В. Търново на ул. „Бузлуджа“ №1. \nЗадължително е предварителното записване на час\, тъй като местата са ограничени. Това може да стане през формуляра по-долу или чрез имейл до нас. \nЗаписването на часове за 3.11 вече е затворено. Върнете се на календара и изберете друг ден. \n 
URL:https://fondaciyautre.com/event/bezplatni-konsultacii-pri-psihologa-bojanova-3-11/
LOCATION:Комплексен онкологичен център Велико Търново\, ул. „Бузлуджа“ № 1\, Велико Търново
CATEGORIES:Велико Търново
ATTACH;FMTTYPE=image/jpeg:https://fondaciyautre.com/wp-content/uploads/2025/10/КОЦ-Велико-Търново.jpg
END:VEVENT
BEGIN:VEVENT
DTSTART;TZID=Europe/Sofia:20251103T090000
DTEND;TZID=Europe/Sofia:20251103T160000
DTSTAMP:20260419T205419
CREATED:20251022T165430Z
LAST-MODIFIED:20251027T132343Z
UID:896-1762160400-1762185600@fondaciyautre.com
SUMMARY:Безплатни урологични прегледи във Враца при д-р Гаврилов 3.11 (часовете са запълнени)
DESCRIPTION:Д-р Георги Гаврилов е уролог с над 25 години опит\, специализирал в България\, Швейцария и Германия. Пълната му биография прочетете тук. \nТой ще се включи в Movember Bulgaria с безплатни профилактични прегледи в два дни – 3 и 4 ноември с широк диапазон от часове. \nПрегледите ще се осъществяват в Комплексен онкологичен център – Враца с адрес Медковец\, бул. „2-ри юни“ 68. Д-р Георгиев ще бъде в кабинета по урология\, намиращ се в сградата на отделението по Нуклеарна медицина на КОЦ – Враца. За упътване\, пациентите могат да се обърнат към „Информация“\, намираща се на първи етаж в стационара на лечебното заведение. \nВсички часове за този ден и лекар вече са запълнени! Нека все пак това не ви отказва – редовните профилактични прегледи са важни и си струват дори когато не са безплатни. Свържете се с лекаря и си запишете час извън кампанията.
URL:https://fondaciyautre.com/event/bezplatni-urologichni-pregledi-vraca-3-11/
LOCATION:Комплексен онкологичен център Враца\, Медковец\, бул. „2-ри юни“ 68\, Враца
CATEGORIES:Враца
ATTACH;FMTTYPE=image/jpeg:https://fondaciyautre.com/wp-content/uploads/2025/10/KOC-Vraca-vhod.jpg
END:VEVENT
BEGIN:VEVENT
DTSTART;TZID=Europe/Sofia:20250614T070000
DTEND;TZID=Europe/Sofia:20250614T210000
DTSTAMP:20260419T205419
CREATED:20250602T095458Z
LAST-MODIFIED:20250602T154026Z
UID:600-1749884400-1749934800@fondaciyautre.com
SUMMARY:ОТВЪД МОСТЪ
DESCRIPTION:Спортното събитие „ОТВЪД МОСТЪ Bike & Run“ в град Ловеч се организира за поредна година – велокрос и бягане сред красивата природа на Ловешкия край. Тази година то ще се проведе на 14 юни\, събота\, и ще бъде партньор на фондация „Утре“ и кампанията Movember Bulgaria 2025. \nОТВЪД МОСТЪ не е просто състезание… А предизвикателство – да преминеш границите на възможното. Да продължиш напред\, да преодолееш ограниченията и да се осмелиш да погледнеш ОТВЪД това\, което вече познаваш. \nТочно както мостът свързва двата бряга на Осъм\, така и спортното събитие свързва хората – с енергия\, страст и стремеж към победа. Състезанието в Ловеч е покана да предизвикаш себе си\, да надскочиш себе си\, да изследваш нови територии и да покажеш най-доброто\, на което си способен. \nНаучи повече за ОТВЪД МОСТЪ на техния сайт.
URL:https://fondaciyautre.com/event/%d0%be%d1%82%d0%b2%d1%8a%d0%b4-%d0%bc%d0%be%d1%81%d1%82%d1%8a/
LOCATION:ОТВЪД МОСТЪ Bike & Run\, Ловеч\, Bulgaria
CATEGORIES:Ловеч
ATTACH;FMTTYPE=image/jpeg:https://fondaciyautre.com/wp-content/uploads/2025/06/otvyd-mosty-e1748860332537.jpg
END:VEVENT
BEGIN:VEVENT
DTSTART;TZID=Europe/Sofia:20250613T180000
DTEND;TZID=Europe/Sofia:20250613T200000
DTSTAMP:20260419T205419
CREATED:20250602T151345Z
LAST-MODIFIED:20250613T102820Z
UID:617-1749837600-1749844800@fondaciyautre.com
SUMMARY:Безплатни урологични прегледи при д-р Льоскова
DESCRIPTION:По случай провеждането на събитието „Отвъд мостъ“ и като подготовка за Movember Bulgaria 2025\, организираме в град Ловеч безплатни профилактични прегледи при уролога д-р Румяна Льоскова. \nПрегледите ще се проведат в урологичния кабинет на първия етаж в сградата на бившата поликлиника в град Ловеч\, ул. „Съйко Съев“ №27\, срещу входа на аптека „Феникс“. \nВсеки мъж е добре дошъл между 18:00 и 20:00 часа на 13 юни. Прегледът е напълно безплатен и не изисква нищо от вас\, единствено трябва да се запишете през формуляра по-долу\, за да се избегне струпване на хора. Побързайте\, защото местата са ограничени! \nД-р Румяна Льоскова работи от дълги години като уролог както в болничната\, така и в доболничната медицинска помощ. Понастоящем е лекар в Урологична клиника на УМБАЛ „Света Марина“ – гр. Плевен. Има множество специализации в областта на заболяванията\, сързани с мъжкото здраве – болести на простатата\, тестисите\, отделителната система. Включва се в кампанията поради убеждението си\, че навременната и системната профилактика е най-добрият начин за постигане на трайни резултати в поддържането и укрепването на мъжкото здраве. \nРегистрацията приключи! \n 
URL:https://fondaciyautre.com/event/%d0%b1%d0%b5%d0%b7%d0%bf%d0%bb%d0%b0%d1%82%d0%bd%d0%b8-%d1%83%d1%80%d0%be%d0%bb%d0%be%d0%b3%d0%b8%d1%87%d0%bd%d0%b8-%d0%bf%d1%80%d0%b5%d0%b3%d0%bb%d0%b5%d0%b4%d0%b8-%d0%bf%d1%80%d0%b8-%d0%b4-%d1%80/
LOCATION:ЦСМП-Ловеч\, ул. "Доктор Съйко Съев" №27\, Ловеч
CATEGORIES:Ловеч
ATTACH;FMTTYPE=image/jpeg:https://fondaciyautre.com/wp-content/uploads/2025/06/csmp-lovech.jpg
END:VEVENT
END:VCALENDAR