BEGIN:VCALENDAR
VERSION:2.0
PRODID:-//Фондация „Утре“ - ECPv6.15.17.1//NONSGML v1.0//EN
CALSCALE:GREGORIAN
METHOD:PUBLISH
X-ORIGINAL-URL:https://fondaciyautre.com
X-WR-CALDESC:Събития за Фондация „Утре“
REFRESH-INTERVAL;VALUE=DURATION:PT1H
X-Robots-Tag:noindex
X-PUBLISHED-TTL:PT1H
BEGIN:VTIMEZONE
TZID:Europe/Sofia
BEGIN:DAYLIGHT
TZOFFSETFROM:+0200
TZOFFSETTO:+0300
TZNAME:EEST
DTSTART:20240331T010000
END:DAYLIGHT
BEGIN:STANDARD
TZOFFSETFROM:+0300
TZOFFSETTO:+0200
TZNAME:EET
DTSTART:20241027T010000
END:STANDARD
BEGIN:DAYLIGHT
TZOFFSETFROM:+0200
TZOFFSETTO:+0300
TZNAME:EEST
DTSTART:20250330T010000
END:DAYLIGHT
BEGIN:STANDARD
TZOFFSETFROM:+0300
TZOFFSETTO:+0200
TZNAME:EET
DTSTART:20251026T010000
END:STANDARD
BEGIN:DAYLIGHT
TZOFFSETFROM:+0200
TZOFFSETTO:+0300
TZNAME:EEST
DTSTART:20260329T010000
END:DAYLIGHT
BEGIN:STANDARD
TZOFFSETFROM:+0300
TZOFFSETTO:+0200
TZNAME:EET
DTSTART:20261025T010000
END:STANDARD
END:VTIMEZONE
BEGIN:VEVENT
DTSTART;TZID=Europe/Sofia:20251112T100000
DTEND;TZID=Europe/Sofia:20251112T110000
DTSTAMP:20260421T113740
CREATED:20251027T100910Z
LAST-MODIFIED:20251113T082741Z
UID:964-1762941600-1762945200@fondaciyautre.com
SUMMARY:Безплатни урологични прегледи в Силистра при д-р Стоев 12.11
DESCRIPTION:Д-р Венцислав Стоев е водещият специалист по урология в Силистренска област. Началник отделение по урология в МБАЛ Силистра. Има стаж като лекар 39 г.\, а като специалист по урология – 35 г. \nИменитият лекар се включва в кампанията Movember Bulgaria с възможности за прегледи в 4 различни дни: 5\, 12\, 19 и 28 ноември в часовете между 10 и 11. Кабинетът на д-р Стоев\, в който ще се осъществяват прегледите\, е с адрес: гр. Силистра\, ул. Петър Мутафчиев 63\, Медицински център Дръстър – кабинет №5. \nЗаписването на часове става само по телефон 086/830150.
URL:https://fondaciyautre.com/event/bezplatni-urologichni-pregledi-pri-dr-stoev-12-11/
LOCATION:МЦ Дръстър\, ул. Петър Мутафчиев 63\, Силистра
CATEGORIES:Силистра
ATTACH;FMTTYPE=image/jpeg:https://fondaciyautre.com/wp-content/uploads/2025/10/МЦ-Дръстър-Силистра.jpg
END:VEVENT
BEGIN:VEVENT
DTSTART;TZID=Europe/Sofia:20251112T160000
DTEND;TZID=Europe/Sofia:20251112T174000
DTSTAMP:20260421T113740
CREATED:20251029T085408Z
LAST-MODIFIED:20251106T182224Z
UID:1051-1762963200-1762969200@fondaciyautre.com
SUMMARY:Безплатни урологични прегледи в Бургас при д-р Панчев 12.11 (часовете са изчерпани)
DESCRIPTION:Д-р Панчо Панчев е специалист уролог\, практикуващ в Бургас. Той извършва диагностика и лечение на всички урологични онкологични заболявания с акцент върху ранната диагностика на рака на простатата и ендоскопското лечение на рака на пикочния мехур\, както и повечето от основните урологични патологии. Пълната му биография можете да прочетете тук. \nД-р Панчев сам изяви желание да се включи в кампанията Movember Bulgaria\, за което сме му изключително благодарни! Той ще приема пациенти за безплатен профилактичен преглед всяка сряда през ноември (5\, 12\, 19 и 26 ноември) в часовете между 16:00 и 17:40 в своя кабинет №27 в ДКЦ „Св. Георги Победоносец“ в Бургас\, ул. „Ванче Михайлов“ №1. Посещението се осъществява само след предварително записване на час чрез попълване на формуляра по-долу: \nЧасовете за този ден са изчерпани. Моля върнете се в календара и изберете друга дата.
URL:https://fondaciyautre.com/event/bezplatni-urologichni-pregledi-pri-dr-panchev-12-11/
LOCATION:ДКЦ „Св. Георги Победоносец“\, Бургас\, ул. Ванче Михайлов 1\, Бургас
CATEGORIES:Бургас
ATTACH;FMTTYPE=image/jpeg:https://fondaciyautre.com/wp-content/uploads/2025/10/ДКЦ-Св.-Георги-Победоносец-Бургас.jpeg
END:VEVENT
END:VCALENDAR