BEGIN:VCALENDAR
VERSION:2.0
PRODID:-//Фондация „Утре“ - ECPv6.15.17.1//NONSGML v1.0//EN
CALSCALE:GREGORIAN
METHOD:PUBLISH
X-ORIGINAL-URL:https://fondaciyautre.com
X-WR-CALDESC:Събития за Фондация „Утре“
REFRESH-INTERVAL;VALUE=DURATION:PT1H
X-Robots-Tag:noindex
X-PUBLISHED-TTL:PT1H
BEGIN:VTIMEZONE
TZID:Europe/Sofia
BEGIN:DAYLIGHT
TZOFFSETFROM:+0200
TZOFFSETTO:+0300
TZNAME:EEST
DTSTART:20240331T010000
END:DAYLIGHT
BEGIN:STANDARD
TZOFFSETFROM:+0300
TZOFFSETTO:+0200
TZNAME:EET
DTSTART:20241027T010000
END:STANDARD
BEGIN:DAYLIGHT
TZOFFSETFROM:+0200
TZOFFSETTO:+0300
TZNAME:EEST
DTSTART:20250330T010000
END:DAYLIGHT
BEGIN:STANDARD
TZOFFSETFROM:+0300
TZOFFSETTO:+0200
TZNAME:EET
DTSTART:20251026T010000
END:STANDARD
BEGIN:DAYLIGHT
TZOFFSETFROM:+0200
TZOFFSETTO:+0300
TZNAME:EEST
DTSTART:20260329T010000
END:DAYLIGHT
BEGIN:STANDARD
TZOFFSETFROM:+0300
TZOFFSETTO:+0200
TZNAME:EET
DTSTART:20261025T010000
END:STANDARD
END:VTIMEZONE
BEGIN:VEVENT
DTSTART;TZID=Europe/Sofia:20251118T080000
DTEND;TZID=Europe/Sofia:20251118T170000
DTSTAMP:20260421T113742
CREATED:20251030T122852Z
LAST-MODIFIED:20251118T172159Z
UID:1096-1763452800-1763485200@fondaciyautre.com
SUMMARY:Безплатни консултации в Шумен при психолога Теодора Драгозова-Бояджиева 18.11
DESCRIPTION:Теодора Драгозова-Бояджиева е психолог/психотерапевт и мед. специалист в гр. Шумен с дългогодишна практика в индивидуалното и груповото консултиране. Пълната ѝ биография можете да прочетете тук. \nТя ще се включи в кампанията Movember Bulgaria с безплатни психологични консултации за мъже в своя кабинет на ул. “Цар Освободител” №97\, ет. 3\, к-т 35. Те ще се провеждат всеки вторник през месец ноември между 10:00 и 17:00\, като е задължително предварително записване на час на телефон 0886 04 09 20.
URL:https://fondaciyautre.com/event/bezplatni-konsultacii-pri-psihologa-boqdjieva-18-11/
LOCATION:Кабинет 35 на Теодора Бояджиева\, Шумен\, ул. Цар освободител №97\, Шумен
CATEGORIES:Шумен
ATTACH;FMTTYPE=image/jpeg:https://fondaciyautre.com/wp-content/uploads/2025/10/Шумен.jpg
END:VEVENT
BEGIN:VEVENT
DTSTART;TZID=Europe/Sofia:20251118T090000
DTEND;TZID=Europe/Sofia:20251118T100000
DTSTAMP:20260421T113742
CREATED:20251031T163531Z
LAST-MODIFIED:20251112T144822Z
UID:1141-1763456400-1763460000@fondaciyautre.com
SUMMARY:Безплатни урологични прегледи във Варна при д-р Анастасов 18.11 (часовете са запълнени)
DESCRIPTION:Д-р Иван Анастасов е специалист уролог (пикочо-полови болести) в ДКЦ-1 „Св. Клементина“ във Варна. Той е един от най-препоръчваните уролози в града\, като преглежда и деца. \nД-р Анастасов се включва в инициативата Movember Bulgaria с безплатни профилактични прегледи на 18 ноември между 09:00 и 10:00 часа в своя кабинет №322 на трети етаж на ДКЦ-1 „Св. Клементина – Варна“ (Градска болница)\, бул. „Съборни“ №40 във Варна. \nЧасовете вече са запълнени и няма повече свободни места.
URL:https://fondaciyautre.com/event/bezplatni-urologichni-pregledi-pri-dr-anastasov/
LOCATION:ДКЦ-1 Св. Клементина\, Варна\, бул. Съборни №40\, Варна
CATEGORIES:Варна
ATTACH;FMTTYPE=image/jpeg:https://fondaciyautre.com/wp-content/uploads/2025/10/DKC-1-varna.jpg
END:VEVENT
BEGIN:VEVENT
DTSTART;TZID=Europe/Sofia:20251118T100000
DTEND;TZID=Europe/Sofia:20251118T170000
DTSTAMP:20260421T113742
CREATED:20251029T115626Z
LAST-MODIFIED:20251118T172140Z
UID:1069-1763460000-1763485200@fondaciyautre.com
SUMMARY:Безплатни консултации във Варна при психоонколога Свилен Лапаков 18.11
DESCRIPTION:Свилен Лапаков е психоонколог с частен кабинет във Варна (ул. Юрий Венелин №14). Работи предимно с онкоболни\, деца над 13 г.\, болни възрастни и техните близки и роднини. Пълната му биография можете да прочетете тук. \nБезплатни психологически консултации г-н Лапаков ще предложи на 11 и 18 ноември между 10 и 17 часа в своя кабинет във Варна на ул. „Юрий Венелин“ №14. \nРегистрацията вече е затворена.
URL:https://fondaciyautre.com/event/bezplatni-konsultacii-pri-psihologa-lapakov-18-11/
LOCATION:Кабинет на Свилен Лапаков\, Варна\, ул. Юрий Венелин 14\, Варна
CATEGORIES:Варна
ATTACH;FMTTYPE=image/jpeg:https://fondaciyautre.com/wp-content/uploads/2025/10/Свилен-Лапаков-кабинет.jpg
END:VEVENT
END:VCALENDAR