BEGIN:VCALENDAR
VERSION:2.0
PRODID:-//Фондация „Утре“ - ECPv6.15.17.1//NONSGML v1.0//EN
CALSCALE:GREGORIAN
METHOD:PUBLISH
X-WR-CALNAME:Фондация „Утре“
X-ORIGINAL-URL:https://fondaciyautre.com
X-WR-CALDESC:Събития за Фондация „Утре“
REFRESH-INTERVAL;VALUE=DURATION:PT1H
X-Robots-Tag:noindex
X-PUBLISHED-TTL:PT1H
BEGIN:VTIMEZONE
TZID:Europe/Sofia
BEGIN:DAYLIGHT
TZOFFSETFROM:+0200
TZOFFSETTO:+0300
TZNAME:EEST
DTSTART:20240331T010000
END:DAYLIGHT
BEGIN:STANDARD
TZOFFSETFROM:+0300
TZOFFSETTO:+0200
TZNAME:EET
DTSTART:20241027T010000
END:STANDARD
BEGIN:DAYLIGHT
TZOFFSETFROM:+0200
TZOFFSETTO:+0300
TZNAME:EEST
DTSTART:20250330T010000
END:DAYLIGHT
BEGIN:STANDARD
TZOFFSETFROM:+0300
TZOFFSETTO:+0200
TZNAME:EET
DTSTART:20251026T010000
END:STANDARD
BEGIN:DAYLIGHT
TZOFFSETFROM:+0200
TZOFFSETTO:+0300
TZNAME:EEST
DTSTART:20260329T010000
END:DAYLIGHT
BEGIN:STANDARD
TZOFFSETFROM:+0300
TZOFFSETTO:+0200
TZNAME:EET
DTSTART:20261025T010000
END:STANDARD
END:VTIMEZONE
BEGIN:VEVENT
DTSTART;TZID=Europe/Sofia:20251121T073000
DTEND;TZID=Europe/Sofia:20251121T103000
DTSTAMP:20260421T113303
CREATED:20251110T171804Z
LAST-MODIFIED:20251121T132449Z
UID:1440-1763710200-1763721000@fondaciyautre.com
SUMMARY:Безплатни урологични прегледи в Пловдив при д-р Кодинова 21.11
DESCRIPTION:Д-р Станимира Кодинова е специалист уролог в Пловдив с дългогодишен медицински опит. Към момента е началник отделение към УМБАЛ Пълмед и част от екипа на ДКЦ I. Пълната ѝ биография можете да прочетете тук. \nД-р Кодинова ще предложи безплатни профилактични прегледи за мъже на 21.11.2025 г и 28.11.2025 г от 07:30 до 10:30 часа в ДКЦ-1\, район Централен\, пл. „Понеделник пазар“ №5. Предварителното записване се осъществява на телефона на ДКЦ-1 в Пловдив – 032/ 349 500 ; 032/ 349 501.
URL:https://fondaciyautre.com/event/bezplatni-urologichni-pregledi-pri-dr-kodinova-21-11/
LOCATION:ДКЦ-1\, Пловдив\, площад "Понеделник пазар" №5\, Пловдив
CATEGORIES:Пловдив
ATTACH;FMTTYPE=image/jpeg:https://fondaciyautre.com/wp-content/uploads/2025/11/ДКЦ-1-Пловдив.jpg
END:VEVENT
END:VCALENDAR