BEGIN:VCALENDAR
VERSION:2.0
PRODID:-//Фондация „Утре“ - ECPv6.15.17.1//NONSGML v1.0//EN
CALSCALE:GREGORIAN
METHOD:PUBLISH
X-ORIGINAL-URL:https://fondaciyautre.com
X-WR-CALDESC:Събития за Фондация „Утре“
REFRESH-INTERVAL;VALUE=DURATION:PT1H
X-Robots-Tag:noindex
X-PUBLISHED-TTL:PT1H
BEGIN:VTIMEZONE
TZID:Europe/Sofia
BEGIN:DAYLIGHT
TZOFFSETFROM:+0200
TZOFFSETTO:+0300
TZNAME:EEST
DTSTART:20240331T010000
END:DAYLIGHT
BEGIN:STANDARD
TZOFFSETFROM:+0300
TZOFFSETTO:+0200
TZNAME:EET
DTSTART:20241027T010000
END:STANDARD
BEGIN:DAYLIGHT
TZOFFSETFROM:+0200
TZOFFSETTO:+0300
TZNAME:EEST
DTSTART:20250330T010000
END:DAYLIGHT
BEGIN:STANDARD
TZOFFSETFROM:+0300
TZOFFSETTO:+0200
TZNAME:EET
DTSTART:20251026T010000
END:STANDARD
BEGIN:DAYLIGHT
TZOFFSETFROM:+0200
TZOFFSETTO:+0300
TZNAME:EEST
DTSTART:20260329T010000
END:DAYLIGHT
BEGIN:STANDARD
TZOFFSETFROM:+0300
TZOFFSETTO:+0200
TZNAME:EET
DTSTART:20261025T010000
END:STANDARD
END:VTIMEZONE
BEGIN:VEVENT
DTSTART;TZID=Europe/Sofia:20251125T100000
DTEND;TZID=Europe/Sofia:20251125T170000
DTSTAMP:20260421T113701
CREATED:20251030T122728Z
LAST-MODIFIED:20251127T134859Z
UID:1097-1764064800-1764090000@fondaciyautre.com
SUMMARY:Безплатни консултации в Шумен при психолога Теодора Драгозова-Бояджиева 25.11
DESCRIPTION:Теодора Драгозова-Бояджиева е психолог/психотерапевт и мед. специалист в гр. Шумен с дългогодишна практика в индивидуалното и груповото консултиране. Пълната ѝ биография можете да прочетете тук. \nТя ще се включи в кампанията Movember Bulgaria с безплатни психологични консултации за мъже в своя кабинет на ул. “Цар Освободител” №97\, ет. 3\, к-т 35. Те ще се провеждат всеки вторник през месец ноември между 10:00 и 17:00\, като е задължително предварително записване на час на телефон 0886 04 09 20.
URL:https://fondaciyautre.com/event/bezplatni-konsultacii-pri-psihologa-boqdjieva-25-11/
LOCATION:Кабинет 35 на Теодора Бояджиева\, Шумен\, ул. Цар освободител №97\, Шумен
CATEGORIES:Шумен
ATTACH;FMTTYPE=image/jpeg:https://fondaciyautre.com/wp-content/uploads/2025/10/Шумен.jpg
END:VEVENT
BEGIN:VEVENT
DTSTART;TZID=Europe/Sofia:20251125T150000
DTEND;TZID=Europe/Sofia:20251125T180000
DTSTAMP:20260421T113701
CREATED:20251022T095041Z
LAST-MODIFIED:20251104T142150Z
UID:808-1764082800-1764093600@fondaciyautre.com
SUMMARY:Безплатни урологични прегледи в София при д-р Ботев 25.11 (часовете са запълнени)
DESCRIPTION:Д-р Николай Ботев се включва в кампанията Movember Bulgaria като част от партньорството ни с Медицински център „Лонгевия“. Биографията му можете да прочетете тук. \nТой ще провежда своите безплатни профилактични урологични прегледи на 25\, 26 и 27 ноември между 15 и 18 часа в МЦ „Лонгевия“\, София\, на адрес: бул. „Цариградско шосе“ №141 (сградата на „ВИП Секюрити“). \nЧасовете вече са запълнени.
URL:https://fondaciyautre.com/event/bezplatni-urologichni-pregledi-pri-dr-botev-25-11-2/
LOCATION:МЦ „Лонгевия“\, София\, бул. Цариградско шосе 141\, София
CATEGORIES:София
ATTACH;FMTTYPE=image/jpeg:https://fondaciyautre.com/wp-content/uploads/2025/10/longevia-health-smaller-logo.jpg
END:VEVENT
END:VCALENDAR